BEGIN:VCALENDAR
PRODID:-//github.com/rianjs/ical.net//NONSGML ical.net 4.0//EN
VERSION:2.0
BEGIN:VEVENT
DESCRIPTION:Vitnemålsutdeling 10. trinn
DTEND:20260618T200000
DTSTAMP:20260424T081945Z
DTSTART:20260618T170000
LOCATION:Flerbrukshallen
SEQUENCE:0
SUMMARY:Vitnemålsutdeling 10. trinn
UID:4b8c8035-feb9-4d87-bff3-f25ac9415b92
END:VEVENT
END:VCALENDAR
